BEGIN:VCALENDAR
VERSION:2.0
PRODID:icalendar-ruby
CALSCALE:GREGORIAN
METHOD:PUBLISH
BEGIN:VEVENT
DTSTAMP:20260423T214939Z
UID:34-1009214@faithwayag.com
DTSTART:20261021T230000Z
DTEND:20261022T003000Z
CLASS:PUBLIC
CREATED:20260423T162725
DESCRIPTION:We want to invite all students (pre-K thru 5th) to come and joi
 n us as we investigate God's Word together! Come and join the fun!
LAST-MODIFIED:20260423T162725
LOCATION:Faith Way Assembly of God
SUMMARY:Faith Detectives
URL;VALUE=URI:https://faithwayag.com/events/faith-detectives/2026-10-21
ATTACH;FILENAME=Faith-Way-Detectives--%2860-x-32-in%29-%281500-x-784-px%29-
 %281500-x-784-px%29.png;FMTTYPE=image/png:https://dq5pwpg1q8ru0.cloudfront
 .net/2024/09/18/16/43/03/f2868422-7b78-4842-a4b8-e7ffda16911c/Faith-Way-De
 tectives--%252860-x-32-in%2529-%25281500-x-784-px%2529-%25281500-x-784-px%
 2529.png
END:VEVENT
END:VCALENDAR
