BEGIN:VCALENDAR
VERSION:2.0
PRODID:icalendar-ruby
CALSCALE:GREGORIAN
METHOD:PUBLISH
BEGIN:VEVENT
DTSTAMP:20260423T215324Z
UID:36-1009323@faithwayag.com
DTSTART:20261004T150000Z
DTEND:20261004T163000Z
CLASS:PUBLIC
CREATED:20260423T162725
DESCRIPTION:All students are invited to come and join us on Sunday mornings
  @ 11 am! 
LAST-MODIFIED:20260423T162725
LOCATION:Faith Way Assembly of God
SUMMARY:Faith Warriors 
URL;VALUE=URI:https://faithwayag.com/events/faith-warriors/2026-10-04
ATTACH;FILENAME=CASTLE-tower-logo-%281500-x-784-px%29.png;FMTTYPE=image/png
 :https://dq5pwpg1q8ru0.cloudfront.net/2024/09/18/16/49/07/069ba77e-cb15-45
 3f-bbcf-c19fa6d5ad3f/CASTLE-tower-logo-%25281500-x-784-px%2529.png
END:VEVENT
END:VCALENDAR
