BEGIN:VCALENDAR
VERSION:2.0
PRODID:icalendar-ruby
CALSCALE:GREGORIAN
METHOD:PUBLISH
BEGIN:VEVENT
DTSTAMP:20260422T101900Z
UID:13-1001027@faithwayag.com
DTSTART:20261007T230000Z
DTEND:20261008T010000Z
CLASS:PUBLIC
CREATED:20260421T203908
DESCRIPTION:Students grades 6-12 are invited to join Identity Youth as we e
 njoy fellowship\, fun\, and (most importantly) the Word of God!  
LAST-MODIFIED:20260421T203908
LOCATION:Faith Way
SUMMARY:Identity Youth Service
URL;VALUE=URI:https://faithwayag.com/events/identity-youth-service/2026-10-
 07
END:VEVENT
END:VCALENDAR
