BEGIN:VCALENDAR
VERSION:2.0
PRODID:icalendar-ruby
CALSCALE:GREGORIAN
METHOD:PUBLISH
BEGIN:VEVENT
DTSTAMP:20260422T044516Z
UID:9-1000831@faithwayag.com
DTSTART:20260913T150000Z
DTEND:20260913T163000Z
CLASS:PUBLIC
CREATED:20260421T203907
DESCRIPTION:
LAST-MODIFIED:20260421T203907
LOCATION:Faith Way Assembly of God 
SUMMARY:Sunday Worship
URL;VALUE=URI:https://faithwayag.com/events/sunday-worship/2026-09-13
ATTACH;FILENAME=Church-photo-for-website---Edited.png;FMTTYPE=image/png:htt
 ps://dq5pwpg1q8ru0.cloudfront.net/2024/04/08/15/33/43/6fd8d159-1b84-4708-a
 9b3-91701ac63403/Church-photo-for-website---Edited.png
END:VEVENT
END:VCALENDAR
